BEGIN:VCALENDAR
VERSION:2.0
PRODID:-//wp-events-plugin.com//7.2.3.1//EN
BEGIN:VEVENT
UID:73@fachschule-voltigieren-hohenhameln.de
DTSTART:20250116T000000Z
DTEND:20250119T000000Z
DTSTAMP:20241031T171323Z
URL:https://fachschule-voltigieren-hohenhameln.de/events/longierlehrgang
SUMMARY:Longierlehrgang
DESCRIPTION:Longierlehrgang zum Erwerb des LA 4\, LA 5 oder LA 5V
CATEGORIES:Longierlehrgänge
LOCATION:Fachschule Voltigieren\, Dehnenweg 30\, Hohenhameln\, 31249\, Deut
 schland
X-APPLE-STRUCTURED-LOCATION;VALUE=URI;X-ADDRESS=Dehnenweg 30\, Hohenhameln\
 , 31249\, Deutschland;X-APPLE-RADIUS=100;X-TITLE=Fachschule Voltigieren:ge
 o:0,0
END:VEVENT
END:VCALENDAR