BEGIN:VCALENDAR
VERSION:2.0
PRODID:-//wp-events-plugin.com//7.2.3.1//EN
BEGIN:VEVENT
UID:65@fachschule-voltigieren-hohenhameln.de
DTSTART;TZID=Europe/Berlin;VALUE=DATE:20240509
DTEND;TZID=Europe/Berlin;VALUE=DATE:20240513
DTSTAMP:20231016T115512Z
URL:https://fachschule-voltigieren-hohenhameln.de/events/longierlehrgang-l
 a2-la-3
SUMMARY:Longierlehrgang - LA2\, LA 3
DESCRIPTION:Bei diesem Lehrgang werden die Grundlagen in der Arbeit mit der
  Doppellonge vermittelt und verbessert\,\nbzw. vorhandene Kenntnisse verti
 eft und in die Arbeit am Langzügel eingeführt.\n\nEin Prüfung der Longi
 erabzeichen Kl. 2 und 3 ist möglich.\n\n&nbsp\;\n\nGeplanter Ablauf (Down
 load): LongierlehrgangI
CATEGORIES:Longierlehrgänge
LOCATION:Fachschule Hohenhameln\, Dehnenweg 30\, Hohenhameln\, 31249\, Deut
 schland
X-APPLE-STRUCTURED-LOCATION;VALUE=URI;X-ADDRESS=Dehnenweg 30\, Hohenhameln\
 , 31249\, Deutschland;X-APPLE-RADIUS=100;X-TITLE=Fachschule Hohenhameln:ge
 o:0,0
END:VEVENT
BEGIN:VTIMEZONE
TZID:Europe/Berlin
X-LIC-LOCATION:Europe/Berlin
BEGIN:DAYLIGHT
DTSTART:20240331T030000
TZOFFSETFROM:+0100
TZOFFSETTO:+0200
TZNAME:CEST
END:DAYLIGHT
END:VTIMEZONE
END:VCALENDAR