BEGIN:VCALENDAR
VERSION:2.0
PRODID:-//wp-events-plugin.com//7.2.3.1//EN
BEGIN:VEVENT
UID:100@fachschule-voltigieren-hohenhameln.de
DTSTART;VALUE=DATE:20261127
DTEND;VALUE=DATE:20261130
DTSTAMP:20260412T080707Z
URL:https://fachschule-voltigieren-hohenhameln.de/events/longierlehrgang-f
 uer-fortgeschrittene-3
SUMMARY:Longierlehrgang - für Fortgeschrittene
DESCRIPTION:Dieser Lehrgang richtet sich an Longenführer\, die auf dem Niv
 eau des LA 4 longieren und ihre Hilfengebung verfeinern wollen
LOCATION:Fachschule Hohenhameln\, Dehnenweg 30\, Hohenhameln\, 31249\, Deut
 schland
X-APPLE-STRUCTURED-LOCATION;VALUE=URI;X-ADDRESS=Dehnenweg 30\, Hohenhameln\
 , 31249\, Deutschland;X-APPLE-RADIUS=100;X-TITLE=Fachschule Hohenhameln:ge
 o:0,0
END:VEVENT
END:VCALENDAR