BEGIN:VCALENDAR
VERSION:2.0
PRODID:-//wp-events-plugin.com//7.2.3.1//EN
BEGIN:VEVENT
UID:85@fachschule-voltigieren-hohenhameln.de
DTSTART;VALUE=DATE:20251107
DTEND;VALUE=DATE:20251110
DTSTAMP:20251026T110954Z
URL:https://fachschule-voltigieren-hohenhameln.de/events/longierlehrgang-d
 oppellongenarbeit-fuer-einsteiger-3
SUMMARY:Longierlehrgang - Doppellongenarbeit für Einsteiger - abgesagt
DESCRIPTION:Dieser Lehrgang richtet sich an Longenführer\, die die Arbeit 
 an der Doppellonge erlernen bzw. vertiefen wollen.
CATEGORIES:Longierlehrgänge
LOCATION:Fachschule Hohenhameln\, Dehnenweg 30\, Hohenhameln\, 31249\, Deut
 schland
X-APPLE-STRUCTURED-LOCATION;VALUE=URI;X-ADDRESS=Dehnenweg 30\, Hohenhameln\
 , 31249\, Deutschland;X-APPLE-RADIUS=100;X-TITLE=Fachschule Hohenhameln:ge
 o:0,0
END:VEVENT
END:VCALENDAR