BEGIN:VCALENDAR
VERSION:2.0
PRODID:-//wp-events-plugin.com//7.2.3.1//EN
BEGIN:VEVENT
UID:36@fachschule-voltigieren-hohenhameln.de
DTSTART;VALUE=DATE:20220526
DTEND;VALUE=DATE:20220530
DTSTAMP:20220427T201018Z
URL:https://fachschule-voltigieren-hohenhameln.de/events/longierlehrgang-d
 oppellonge-3
SUMMARY:Longierlehrgang Doppellonge
DESCRIPTION:Longierlehrgang mit dem Schwerpunkt der Ausbildung an der Doppe
 llonge.\n\nZiel ist die Prüfung zum LA 3 oder LA 2\n\n&nbsp\;
CATEGORIES:Longierlehrgänge
LOCATION:Fachschule Hohenhameln\, Dehnenweg 30\, Hohenhameln\, 31249\, Deut
 schland
X-APPLE-STRUCTURED-LOCATION;VALUE=URI;X-ADDRESS=Dehnenweg 30\, Hohenhameln\
 , 31249\, Deutschland;X-APPLE-RADIUS=100;X-TITLE=Fachschule Hohenhameln:ge
 o:0,0
END:VEVENT
END:VCALENDAR