BEGIN:VCALENDAR
VERSION:2.0
PRODID:-//wp-events-plugin.com//7.2.3.1//EN
BEGIN:VEVENT
UID:67@fachschule-voltigieren-hohenhameln.de
DTSTART;VALUE=DATE:20240731
DTEND;VALUE=DATE:20240805
DTSTAMP:20240524T153943Z
URL:https://fachschule-voltigieren-hohenhameln.de/events/23-hohenhamelner-
 volticamp
SUMMARY:23. Hohenhamelner Volticamp - abgesagt
DESCRIPTION:Vom 31. Juli bis 04. August sollte die 23. Hohenhamelner Voltig
 ierfreizeit stattfinden.\nLeider kann die Schule aktuell aufgrund geändet
 er Brandschutzvorgaben nicht mehr für die Übernachtungen genutzt werden.
 \nDeswegen musste das Camp in diesem Jahr leider abgesagt werden.
END:VEVENT
END:VCALENDAR