BEGIN:VCALENDAR
VERSION:2.0
PRODID:-//wp-events-plugin.com//7.2.3.1//EN
BEGIN:VEVENT
UID:49@fachschule-voltigieren-hohenhameln.de
DTSTART;VALUE=DATE:20230802
DTEND;VALUE=DATE:20230807
DTSTAMP:20230523T133129Z
URL:https://fachschule-voltigieren-hohenhameln.de/events/22-hohenhamelner-
 volticamp
SUMMARY:22. Hohenhamelner Volticamp
DESCRIPTION:Vom 02. bis 06. August findet die 22. Hohenhamelner Voltigierfr
 eizeit statt.\nAnmeldeunterlagen sowie weitere Informationen findet ihr im
  Downloadbereich sowie auf der Homepage\n\n&nbsp\;
END:VEVENT
END:VCALENDAR